BEGIN:VCALENDAR
PRODID:-//AT Content Types//AT Event//EN
VERSION:2.0
METHOD:PUBLISH
BEGIN:VEVENT
DTSTAMP:20260422T170111Z
CREATED:20150827T125735Z
UID:ATEvent-17302b0f3fad4e27bf1b2a1268370958
LAST-MODIFIED:20150827T125735Z
SUMMARY:Computer Course
DTSTART:20150904T120000Z
DTEND:20150904T133000Z
LOCATION:Lecture Room B
CONTACT:J. Grassberger
URL:https://diploma-clear.ictp.it/courses/weekly-schedule/lecture-room-b/lecture.2015-08-27.2558415331
CLASS:PUBLIC
END:VEVENT
END:VCALENDAR
