BEGIN:VCALENDAR
PRODID:-//AT Content Types//AT Event//EN
VERSION:1.0
BEGIN:VEVENT
DTSTART:20150902T120000Z
DTEND:20150902T133000Z
DCREATED:20150827T125735Z
UID:ATEvent-08e919ddc97b4f0ca23609fc6cbb4a63
SEQUENCE:0
LAST-MODIFIED:20150827T125735Z
SUMMARY:Computer Course
LOCATION:Lecture Room B
PRIORITY:3
TRANSP:0
END:VEVENT
END:VCALENDAR
