BEGIN:VCALENDAR
PRODID:-//AT Content Types//AT Event//EN
VERSION:1.0
BEGIN:VEVENT
DTSTART:20140326T100000Z
DTEND:20140326T113000Z
DCREATED:20140109T104412Z
UID:ATEvent-04e03259ec68454eb0299e38ac70c9ea
SEQUENCE:0
LAST-MODIFIED:20140124T120316Z
SUMMARY:ESP-NUM II
LOCATION:Lecture Room B
PRIORITY:3
TRANSP:0
END:VEVENT
END:VCALENDAR
