BEGIN:VCALENDAR
PRODID:-//AT Content Types//AT Event//EN
VERSION:2.0
METHOD:PUBLISH
BEGIN:VEVENT
DTSTAMP:20260425T133337Z
CREATED:20140109T104411Z
UID:ATEvent-881963f0f68f4843b1c42abd7eab918f
LAST-MODIFIED:20140124T120135Z
SUMMARY:ESP-NUM II
DTSTART:20140312T100000Z
DTEND:20140312T113000Z
LOCATION:Lecture Room B
CONTACT:G. Giuliani\, L. Mariotti\, G. Tumolo
URL:https://diploma-clear.ictp.it/courses/weekly-schedule/lecture-room-b/lecture.2014-01-09.2517972553
CLASS:PUBLIC
END:VEVENT
END:VCALENDAR
