BEGIN:VCALENDAR
PRODID:-//AT Content Types//AT Event//EN
VERSION:2.0
METHOD:PUBLISH
BEGIN:VEVENT
DTSTAMP:20260423T040133Z
CREATED:20140109T104410Z
UID:ATEvent-a7bd414a64884fbdb77987b41e5c88f2
LAST-MODIFIED:20140124T120025Z
SUMMARY:ESP-NUM II
DTSTART:20140219T080000Z
DTEND:20140219T093000Z
LOCATION:Lecture Room B
CONTACT:G. Giuliani\, L. Mariotti\, G. Tumolo
URL:https://diploma-clear.ictp.it/courses/weekly-schedule/lecture-room-b/lecture.2014-01-09.2509532601
CLASS:PUBLIC
END:VEVENT
END:VCALENDAR
