BEGIN:VCALENDAR
PRODID:-//ICTPDiploma//ATRoom//EN
VERSION:2.0
METHOD:PUBLISH
BEGIN:VEVENT
DTSTAMP:20260421T061449Z
CREATED:20081016T082427Z
UID:ATEvent-7d6367d86808b9f1e640ada6accec9fc
LAST-MODIFIED:20081016T082501Z
SUMMARY:CMP-NUM II
DTSTART:20081117T150000Z
DTEND:20081117T163000Z
LOCATION:Lecture Room B
CONTACT:Jamieson Christie
URL:https://diploma-clear.ictp.it/courses/weekly-schedule/lecture-room-b/cmp-num-ii-7
CLASS:PUBLIC
END:VEVENT
BEGIN:VEVENT
DTSTAMP:20260421T061449Z
CREATED:20081016T082518Z
UID:ATEvent-ac269cbeaee4ad0125941be4491da773
LAST-MODIFIED:20081016T082550Z
SUMMARY:CMP-NUM II
DTSTART:20081119T150000Z
DTEND:20081119T163000Z
LOCATION:Lecture Room B
CONTACT:Malsoon Lee
URL:https://diploma-clear.ictp.it/courses/weekly-schedule/lecture-room-b/cmp-num-ii-8
CLASS:PUBLIC
END:VEVENT
BEGIN:VEVENT
DTSTAMP:20260421T061449Z
CREATED:20081016T082600Z
UID:ATEvent-3d220707f6504449f8eec08bba0580a7
LAST-MODIFIED:20081016T082641Z
SUMMARY:CMP-NUM II
DTSTART:20081121T150000Z
DTEND:20081121T163000Z
LOCATION:Lecture Room B
CONTACT:Malsoon Lee
URL:https://diploma-clear.ictp.it/courses/weekly-schedule/lecture-room-b/cmp-num-ii-9
CLASS:PUBLIC
END:VEVENT
END:VCALENDAR
