BEGIN:VCALENDAR
PRODID:-//ICTPDiploma//ATRoom//EN
VERSION:2.0
METHOD:PUBLISH
BEGIN:VEVENT
DTSTAMP:20260420T170000Z
CREATED:20170830T145823Z
UID:ATEvent-3228f5732b83472aac14de775c65c7ce
LAST-MODIFIED:20171011T145013Z
SUMMARY:ESP/CMP/MSc-NUM I
DTSTART:20171004T070000Z
DTEND:20171004T083000Z
LOCATION:Lecture Room B
CONTACT:E. Coppola\, F. di Sante
URL:https://diploma-clear.ictp.it/courses/weekly-schedule/lecture-room-b/esp-cmp-msc-num-i-17
CLASS:PUBLIC
END:VEVENT
BEGIN:VEVENT
DTSTAMP:20260420T170000Z
CREATED:20170830T145823Z
UID:ATEvent-6abe2fff70b041d8a5a1ab8b64d8f9ee
LAST-MODIFIED:20171011T145116Z
SUMMARY:ESP/CMP/MSc-NUM I
DTSTART:20171006T070000Z
DTEND:20171006T083000Z
LOCATION:Lecture Room B
CONTACT:E. Coppola\, F. di Sante
URL:https://diploma-clear.ictp.it/courses/weekly-schedule/lecture-room-b/esp-cmp-msc-num-i-18
CLASS:PUBLIC
END:VEVENT
END:VCALENDAR
