BEGIN:VCALENDAR
PRODID:-//ICTPDiploma//ATRoom//EN
VERSION:2.0
METHOD:PUBLISH
BEGIN:VEVENT
DTSTAMP:20260421T104809Z
CREATED:20140831T081406Z
UID:ATEvent-96d77a05aa3742949bd63d3e883cfba2
LAST-MODIFIED:20140904T075232Z
SUMMARY:Introduction to Computer Facilities (room B)
DTSTART:20140901T120000Z
DTEND:20140901T133000Z
LOCATION:Lecture Room B
CONTACT:l
URL:https://diploma-clear.ictp.it/courses/weekly-schedule/lecture-room-b/introduction-to-computer-facilities-room-b
CLASS:PUBLIC
END:VEVENT
BEGIN:VEVENT
DTSTAMP:20260421T104809Z
CREATED:20140831T081407Z
UID:ATEvent-5194be4fb4624bc08e076e1f9c743a7e
LAST-MODIFIED:20140904T075310Z
SUMMARY:Introduction to Computer Facilities (AGH Infolab)
DTSTART:20140902T120000Z
DTEND:20140902T133000Z
LOCATION:Lecture Room B
CONTACT:l
URL:https://diploma-clear.ictp.it/courses/weekly-schedule/lecture-room-b/introduction-to-computer-facilities-agh-infolab
CLASS:PUBLIC
END:VEVENT
BEGIN:VEVENT
DTSTAMP:20260421T104809Z
CREATED:20140831T081407Z
UID:ATEvent-203bae1e107748a89503a5d56d36ebd4
LAST-MODIFIED:20140904T075408Z
SUMMARY:Introduction to Computer Facilities (AGH Infolab)
DTSTART:20140903T120000Z
DTEND:20140903T133000Z
LOCATION:Lecture Room B
CONTACT:l
URL:https://diploma-clear.ictp.it/courses/weekly-schedule/lecture-room-b/introduction-to-computer-facilities-agh-infolab-1
CLASS:PUBLIC
END:VEVENT
BEGIN:VEVENT
DTSTAMP:20260421T104809Z
CREATED:20140831T081407Z
UID:ATEvent-d1609135140c46e3a8c59ff0019660c7
LAST-MODIFIED:20140831T081407Z
SUMMARY:Introduction to Computer Facilities
DTSTART:20140904T120000Z
DTEND:20140904T133000Z
LOCATION:Lecture Room B
CONTACT:l
URL:https://diploma-clear.ictp.it/courses/weekly-schedule/lecture-room-b/lecture.2014-08-31.8474108494
CLASS:PUBLIC
END:VEVENT
BEGIN:VEVENT
DTSTAMP:20260421T104809Z
CREATED:20140831T081407Z
UID:ATEvent-68079faa2bdd42f6881f7e29dfc2b52b
LAST-MODIFIED:20140831T081407Z
SUMMARY:Introduction to Computer Facilities
DTSTART:20140905T120000Z
DTEND:20140905T133000Z
LOCATION:Lecture Room B
CONTACT:l
URL:https://diploma-clear.ictp.it/courses/weekly-schedule/lecture-room-b/lecture.2014-08-31.8475358518
CLASS:PUBLIC
END:VEVENT
END:VCALENDAR
