BEGIN:VCALENDAR
PRODID:-//ICTPDiploma//ATRoom//EN
VERSION:2.0
METHOD:PUBLISH
BEGIN:VEVENT
DTSTAMP:20260425T161841Z
CREATED:20220324T100608Z
UID:ATEvent-62212afe88804221b38720eb62c99f36
LAST-MODIFIED:20220324T100638Z
SUMMARY:9:00-17:00 HRS
DTSTART:20220428T070000Z
DTEND:20220428T083000Z
LOCATION:Lecture Room B
URL:https://diploma-clear.ictp.it/courses/weekly-schedule/lecture-room-b/9-00-17-00-hrs
CLASS:PUBLIC
END:VEVENT
BEGIN:VEVENT
DTSTAMP:20260425T161841Z
CREATED:20220324T100700Z
UID:ATEvent-20863adbb4364472a82ee9ef2f60810c
LAST-MODIFIED:20220324T100748Z
SUMMARY:CMP-NUM II
DTSTART:20220428T090000Z
DTEND:20220428T103000Z
LOCATION:Lecture Room B
CONTACT:A. Hassanali\, M. Dalmonte
URL:https://diploma-clear.ictp.it/courses/weekly-schedule/lecture-room-b/lecture.2022-03-24.4199808337
CLASS:PUBLIC
END:VEVENT
BEGIN:VEVENT
DTSTAMP:20260425T161841Z
CREATED:20220411T092722Z
UID:ATEvent-85089915f9f847518bca4965961b85ea
LAST-MODIFIED:20220411T092753Z
SUMMARY:CMP-NUM II
DTSTART:20220429T090000Z
DTEND:20220429T103000Z
LOCATION:Lecture Room B
URL:https://diploma-clear.ictp.it/courses/weekly-schedule/lecture-room-b/lecture.2022-04-11.2428482460
CLASS:PUBLIC
END:VEVENT
BEGIN:VEVENT
DTSTAMP:20260425T161841Z
CREATED:20220318T105546Z
UID:ATEvent-f7d73004ebaa42edb185c9b19a9b4f7b
LAST-MODIFIED:20220412T094217Z
SUMMARY:CMP-ASM tut.
DTSTART:20220426T120000Z
DTEND:20220426T133000Z
LOCATION:Lecture Room B
CONTACT:F. Balducci
URL:https://diploma-clear.ictp.it/courses/weekly-schedule/lecture-room-b/cmp-asm-tut-3
CLASS:PUBLIC
END:VEVENT
BEGIN:VEVENT
DTSTAMP:20260425T161841Z
CREATED:20220324T100757Z
UID:ATEvent-30760092d41144e2b24e47fcc25ea663
LAST-MODIFIED:20220324T100825Z
SUMMARY:EXAM
DTSTART:20220428T120000Z
DTEND:20220428T133000Z
LOCATION:Lecture Room B
CONTACT:A. Hassanali\, M. Dalmonte
URL:https://diploma-clear.ictp.it/courses/weekly-schedule/lecture-room-b/exam-52
CLASS:PUBLIC
END:VEVENT
BEGIN:VEVENT
DTSTAMP:20260425T161841Z
CREATED:20220411T092757Z
UID:ATEvent-fe1c1ee1e6c3412cbed4d14c48010428
LAST-MODIFIED:20220411T092820Z
SUMMARY:EXAM
DTSTART:20220429T120000Z
DTEND:20220429T133000Z
LOCATION:Lecture Room B
URL:https://diploma-clear.ictp.it/courses/weekly-schedule/lecture-room-b/exam-54
CLASS:PUBLIC
END:VEVENT
BEGIN:VEVENT
DTSTAMP:20260425T161841Z
CREATED:20220324T100839Z
UID:ATEvent-87c9eeafd6784bfb9b3ec9f331039926
LAST-MODIFIED:20220324T100908Z
SUMMARY:
DTSTART:20220428T140000Z
DTEND:20220428T153000Z
LOCATION:Lecture Room B
URL:https://diploma-clear.ictp.it/courses/weekly-schedule/lecture-room-b/-82
CLASS:PUBLIC
END:VEVENT
END:VCALENDAR
