BEGIN:VCALENDAR
PRODID:-//ICTPDiploma//ATRoom//EN
VERSION:2.0
METHOD:PUBLISH
BEGIN:VEVENT
DTSTAMP:20260420T191837Z
CREATED:20221207T090846Z
UID:ATEvent-26b3a329077c457baa8e29f1ac238cab
LAST-MODIFIED:20221207T090846Z
SUMMARY:CMP-ES
DTSTART:20230321T080000Z
DTEND:20230321T093000Z
LOCATION:Lecture Room B
CONTACT:R. Gebauer
URL:https://diploma-clear.ictp.it/courses/weekly-schedule/lecture-room-b/lecture.2022-12-07.1263864206
CLASS:PUBLIC
END:VEVENT
BEGIN:VEVENT
DTSTAMP:20260420T191837Z
CREATED:20221207T090847Z
UID:ATEvent-f7e198176ad449708541024033f61cd7
LAST-MODIFIED:20221207T090847Z
SUMMARY:CMP-ES
DTSTART:20230323T080000Z
DTEND:20230323T093000Z
LOCATION:Lecture Room B
CONTACT:R. Gebauer
URL:https://diploma-clear.ictp.it/courses/weekly-schedule/lecture-room-b/lecture.2022-12-07.1270395639
CLASS:PUBLIC
END:VEVENT
BEGIN:VEVENT
DTSTAMP:20260420T191837Z
CREATED:20221209T101856Z
UID:ATEvent-acf6e24d0ba84eda9685e6db1cca5da7
LAST-MODIFIED:20221209T101856Z
SUMMARY:CMP-ASM
DTSTART:20230320T100000Z
DTEND:20230320T113000Z
LOCATION:Lecture Room B
CONTACT:A. Scardicchio
URL:https://diploma-clear.ictp.it/courses/weekly-schedule/lecture-room-b/lecture.2022-12-09.1363328336
CLASS:PUBLIC
END:VEVENT
BEGIN:VEVENT
DTSTAMP:20260420T191837Z
CREATED:20221209T101856Z
UID:ATEvent-ebcd1e7fd6c0448f89a97a89d5ba585f
LAST-MODIFIED:20221209T101856Z
SUMMARY:CMP-ASM
DTSTART:20230322T100000Z
DTEND:20230322T113000Z
LOCATION:Lecture Room B
CONTACT:A. Scardicchio
URL:https://diploma-clear.ictp.it/courses/weekly-schedule/lecture-room-b/lecture.2022-12-09.1364876324
CLASS:PUBLIC
END:VEVENT
BEGIN:VEVENT
DTSTAMP:20260420T191837Z
CREATED:20221209T101856Z
UID:ATEvent-75eb27629b7b42dba6057d1ff919505b
LAST-MODIFIED:20221209T101856Z
SUMMARY:CMP-ASM
DTSTART:20230324T100000Z
DTEND:20230324T113000Z
LOCATION:Lecture Room B
CONTACT:A. Scardicchio
URL:https://diploma-clear.ictp.it/courses/weekly-schedule/lecture-room-b/lecture.2022-12-09.1366563866
CLASS:PUBLIC
END:VEVENT
BEGIN:VEVENT
DTSTAMP:20260420T191837Z
CREATED:20221205T142020Z
UID:ATEvent-04875646513e447f92b8a356b2aa316d
LAST-MODIFIED:20221205T142020Z
SUMMARY:CMP-ST II
DTSTART:20230324T130000Z
DTEND:20230324T143000Z
LOCATION:Lecture Room B
CONTACT:N. Seriani\, M. Stella
URL:https://diploma-clear.ictp.it/courses/weekly-schedule/lecture-room-b/lecture.2022-12-05.0205369619
CLASS:PUBLIC
END:VEVENT
END:VCALENDAR
