BEGIN:VCALENDAR
PRODID:-//ICTPDiploma//ATRoom//EN
VERSION:2.0
METHOD:PUBLISH
BEGIN:VEVENT
DTSTAMP:20260421T024758Z
CREATED:20191112T150859Z
UID:ATEvent-c36dc19c9ab34002a2283c211410922a
LAST-MODIFIED:20191112T150944Z
SUMMARY:ESP-NUM II
DTSTART:20200128T080000Z
DTEND:20200128T093000Z
LOCATION:Lecture Room B
CONTACT:G. Giuliani
URL:https://diploma-clear.ictp.it/courses/weekly-schedule/lecture-room-b/lecture.2019-11-12.3391019950
CLASS:PUBLIC
END:VEVENT
BEGIN:VEVENT
DTSTAMP:20260421T024758Z
CREATED:20191115T105825Z
UID:ATEvent-84d1a8cff4d143f3b3f14af53f100819
LAST-MODIFIED:20200122T071150Z
SUMMARY:CMP-NUM II
DTSTART:20200129T080000Z
DTEND:20200129T093000Z
LOCATION:Lecture Room B
CONTACT:M. Dalmonte
URL:https://diploma-clear.ictp.it/courses/weekly-schedule/lecture-room-b/lecture.2019-11-15.5056562297
CLASS:PUBLIC
END:VEVENT
BEGIN:VEVENT
DTSTAMP:20260421T024758Z
CREATED:20191112T150859Z
UID:ATEvent-08c0700f99054d9696c4ebd61574e8a8
LAST-MODIFIED:20191112T150948Z
SUMMARY:ESP-NUM II
DTSTART:20200130T080000Z
DTEND:20200130T093000Z
LOCATION:Lecture Room B
CONTACT:G. Giuliani
URL:https://diploma-clear.ictp.it/courses/weekly-schedule/lecture-room-b/lecture.2019-11-12.3392551617
CLASS:PUBLIC
END:VEVENT
BEGIN:VEVENT
DTSTAMP:20260421T024758Z
CREATED:20191115T105825Z
UID:ATEvent-6b0f59e818974d61abfec712a4c3552d
LAST-MODIFIED:20191115T124342Z
SUMMARY:CMP-NUM II
DTSTART:20200127T130000Z
DTEND:20200127T143000Z
LOCATION:Lecture Room B
CONTACT:M. Dalmonte
URL:https://diploma-clear.ictp.it/courses/weekly-schedule/lecture-room-b/lecture.2019-11-15.5054457515
CLASS:PUBLIC
END:VEVENT
BEGIN:VEVENT
DTSTAMP:20260421T024758Z
CREATED:20191115T124345Z
UID:ATEvent-52593e01ed8e43488437b658507b610a
LAST-MODIFIED:20191115T124410Z
SUMMARY:Salam Distinguished Lectures
DTSTART:20200127T150000Z
DTEND:20200127T163000Z
LOCATION:Lecture Room B
URL:https://diploma-clear.ictp.it/courses/weekly-schedule/lecture-room-b/salam-distinguished-lectures-1
CLASS:PUBLIC
END:VEVENT
BEGIN:VEVENT
DTSTAMP:20260421T024758Z
CREATED:20191115T110404Z
UID:ATEvent-79b418c1599d4071a8ed7adc561ce35e
LAST-MODIFIED:20191115T110424Z
SUMMARY:Salam Distinguished Lectures
DTSTART:20200128T150000Z
DTEND:20200128T163000Z
LOCATION:Lecture Room B
URL:https://diploma-clear.ictp.it/courses/weekly-schedule/lecture-room-b/salam-distinguished-lectures
CLASS:PUBLIC
END:VEVENT
BEGIN:VEVENT
DTSTAMP:20260421T024758Z
CREATED:20191115T105825Z
UID:ATEvent-51f92896ad5f4c90915ca5d433ec7a74
LAST-MODIFIED:20200205T124635Z
SUMMARY:CMP-NUM II
DTSTART:20200131T150000Z
DTEND:20200131T163000Z
LOCATION:Lecture Room B
CONTACT:M. Dalmonte
URL:https://diploma-clear.ictp.it/courses/weekly-schedule/lecture-room-b/cmp-num-ii-96
CLASS:PUBLIC
END:VEVENT
END:VCALENDAR
