BEGIN:VCALENDAR
PRODID:-//ICTPDiploma//ATRoom//EN
VERSION:2.0
METHOD:PUBLISH
BEGIN:VEVENT
DTSTAMP:20260421T133930Z
CREATED:20191112T150858Z
UID:ATEvent-2a730aebc84d42058f5ddf964881d07d
LAST-MODIFIED:20191112T150935Z
SUMMARY:ESP-NUM II
DTSTART:20200121T080000Z
DTEND:20200121T093000Z
LOCATION:Lecture Room B
CONTACT:G. Giuliani
URL:https://diploma-clear.ictp.it/courses/weekly-schedule/lecture-room-b/lecture.2019-11-12.3387664493
CLASS:PUBLIC
END:VEVENT
BEGIN:VEVENT
DTSTAMP:20260421T133930Z
CREATED:20191112T150858Z
UID:ATEvent-582255ba2fe348abbb6c7d00e90f5309
LAST-MODIFIED:20191112T150938Z
SUMMARY:ESP-NUM II
DTSTART:20200123T080000Z
DTEND:20200123T093000Z
LOCATION:Lecture Room B
CONTACT:G. Giuliani
URL:https://diploma-clear.ictp.it/courses/weekly-schedule/lecture-room-b/lecture.2019-11-12.3389166645
CLASS:PUBLIC
END:VEVENT
END:VCALENDAR
