BEGIN:VCALENDAR
PRODID:-//ICTPDiploma//ATRoom//EN
VERSION:2.0
METHOD:PUBLISH
BEGIN:VEVENT
DTSTAMP:20260420T133648Z
CREATED:20121219T141518Z
UID:ATEvent-7b753e387f4f79bb3b1f78886542e68f
LAST-MODIFIED:20121219T142042Z
SUMMARY:CMP-NUM II
DTSTART:20130111T080000Z
DTEND:20130111T093000Z
LOCATION:Lecture Room B
URL:https://diploma-clear.ictp.it/courses/weekly-schedule/lecture-room-b/cmp-num-ii-43
CLASS:PUBLIC
END:VEVENT
BEGIN:VEVENT
DTSTAMP:20260420T133648Z
CREATED:20121219T141647Z
UID:ATEvent-54871a59322189348eba7168a780cffe
LAST-MODIFIED:20121219T142103Z
SUMMARY:EXAM
DTSTART:20130111T100000Z
DTEND:20130111T113000Z
LOCATION:Lecture Room B
URL:https://diploma-clear.ictp.it/courses/weekly-schedule/lecture-room-b/exam-9
CLASS:PUBLIC
END:VEVENT
END:VCALENDAR
