BEGIN:VCALENDAR
PRODID:-//ICTPDiploma//ATRoom//EN
VERSION:2.0
METHOD:PUBLISH
BEGIN:VEVENT
DTSTAMP:20260421T052814Z
CREATED:20111215T160444Z
UID:ATEvent-7643a4fff4aa9d82fb8b1e4bce926841
LAST-MODIFIED:20111215T160519Z
SUMMARY:CMP/ESP-NUM I
DTSTART:20120110T080000Z
DTEND:20120110T093000Z
LOCATION:Lecture Room B
URL:https://diploma-clear.ictp.it/courses/weekly-schedule/lecture-room-b/cmp-esp-num-i-16
CLASS:PUBLIC
END:VEVENT
BEGIN:VEVENT
DTSTAMP:20260421T052814Z
CREATED:20111215T160709Z
UID:ATEvent-2a9ffc69bc87ff1ab20e4e82f876b388
LAST-MODIFIED:20111215T160757Z
SUMMARY:ESP-NUM II
DTSTART:20120113T080000Z
DTEND:20120113T093000Z
LOCATION:Lecture Room B
URL:https://diploma-clear.ictp.it/courses/weekly-schedule/lecture-room-b/esp-num-ii-30
CLASS:PUBLIC
END:VEVENT
BEGIN:VEVENT
DTSTAMP:20260421T052814Z
CREATED:20111215T160539Z
UID:ATEvent-daefcaa6c45d2b0a9bd61e090c320fa1
LAST-MODIFIED:20111215T160648Z
SUMMARY:EXAM
DTSTART:20120110T100000Z
DTEND:20120110T113000Z
LOCATION:Lecture Room B
URL:https://diploma-clear.ictp.it/courses/weekly-schedule/lecture-room-b/cmp-esp-num-i-17
CLASS:PUBLIC
END:VEVENT
BEGIN:VEVENT
DTSTAMP:20260421T052814Z
CREATED:20111215T160806Z
UID:ATEvent-a34579a3269ef298815cbbdf4d777957
LAST-MODIFIED:20111215T160828Z
SUMMARY:EXAM
DTSTART:20120113T100000Z
DTEND:20120113T113000Z
LOCATION:Lecture Room B
URL:https://diploma-clear.ictp.it/courses/weekly-schedule/lecture-room-b/exam-6
CLASS:PUBLIC
END:VEVENT
END:VCALENDAR
