BEGIN:VCALENDAR
PRODID:-//AT Content Types//AT Event//EN
VERSION:1.0
BEGIN:VEVENT
DTSTART:20110908T070000Z
DTEND:20110908T083000Z
DCREATED:20110826T143444Z
UID:ATEvent-25adb6de9211cc6e22425503f82ed594
SEQUENCE:0
LAST-MODIFIED:20110826T143525Z
SUMMARY:HEP+PHY intro Computer facilities
LOCATION:Lecture Room B
PRIORITY:3
TRANSP:0
END:VEVENT
END:VCALENDAR
