BEGIN:VCALENDAR
PRODID:-//AT Content Types//AT Event//EN
VERSION:2.0
METHOD:PUBLISH
BEGIN:VEVENT
DTSTAMP:20260422T024756Z
CREATED:20110826T143657Z
UID:ATEvent-fcc75e71eaa3ea2825c7d535ff825428
LAST-MODIFIED:20110826T143724Z
SUMMARY:HEP+PHY intro Computer facilities
DTSTART:20110915T070000Z
DTEND:20110915T083000Z
LOCATION:Lecture Room B
URL:https://diploma-clear.ictp.it/courses/weekly-schedule/lecture-room-b/hep-phy-intro-computer-facilities-1
CLASS:PUBLIC
END:VEVENT
END:VCALENDAR
