BEGIN:VCALENDAR
PRODID:-//AT Content Types//AT Event//EN
VERSION:1.0
BEGIN:VEVENT
DTSTART:20101101T080000Z
DTEND:20101101T093000Z
DCREATED:20100921T130711Z
UID:ATEvent-43ea79f82e34aad720c6db88097ba0a5
SEQUENCE:0
LAST-MODIFIED:20100921T130834Z
SUMMARY:HEP+ESP use of laptops
LOCATION:Lecture Room B
PRIORITY:3
TRANSP:0
END:VEVENT
END:VCALENDAR
