BEGIN:VCALENDAR
PRODID:-//AT Content Types//AT Event//EN
VERSION:1.0
BEGIN:VEVENT
DTSTART:20101104T080000Z
DTEND:20101104T093000Z
DCREATED:20100921T131306Z
UID:ATEvent-df0a72ee51af6ddb97327a78ca23adb7
SEQUENCE:0
LAST-MODIFIED:20100921T131341Z
SUMMARY:HEP+ESP use of laptops
LOCATION:Lecture Room B
PRIORITY:3
TRANSP:0
END:VEVENT
END:VCALENDAR
