BEGIN:VCALENDAR
PRODID:-//AT Content Types//AT Event//EN
VERSION:2.0
METHOD:PUBLISH
BEGIN:VEVENT
DTSTAMP:20260423T035101Z
CREATED:20140110T131927Z
UID:ATEvent-3d92e8a4a5d54f87b392c5d7f4c68474
LAST-MODIFIED:20140110T131953Z
SUMMARY:EXAM
DTSTART:20140416T090000Z
DTEND:20140416T103000Z
LOCATION:Lecture Room B
URL:https://diploma-clear.ictp.it/courses/weekly-schedule/lecture-room-b/exam-12
CLASS:PUBLIC
END:VEVENT
END:VCALENDAR
