BEGIN:VCALENDAR
PRODID:-//AT Content Types//AT Event//EN
VERSION:1.0
BEGIN:VEVENT
DTSTART:20200320T130000Z
DTEND:20200320T143000Z
DCREATED:20200220T112639Z
UID:ATEvent-048e2855cc3b4c689b6e384ccd44ba20
SEQUENCE:0
LAST-MODIFIED:20200224T115924Z
SUMMARY:ESP-NUM II
LOCATION:Lecture Room B
PRIORITY:3
TRANSP:0
END:VEVENT
END:VCALENDAR
