BEGIN:VCALENDAR
PRODID:-//AT Content Types//AT Event//EN
VERSION:2.0
METHOD:PUBLISH
BEGIN:VEVENT
DTSTAMP:20260421T164218Z
CREATED:20141126T095655Z
UID:ATEvent-fea59c80302245faa5f8ecfb790735d8
LAST-MODIFIED:20141126T095730Z
SUMMARY:ESP-ESD II
DTSTART:20150306T130000Z
DTEND:20150306T143000Z
LOCATION:Lecture Room B
CONTACT:F. Kucharski\, A. Tompkins
URL:https://diploma-clear.ictp.it/courses/weekly-schedule/lecture-room-b/esp-esd-ii-3
CLASS:PUBLIC
END:VEVENT
END:VCALENDAR
