BEGIN:VCALENDAR
PRODID:-//AT Content Types//AT Event//EN
VERSION:1.0
BEGIN:VEVENT
DTSTART:20181121T080000Z
DTEND:20181121T093000Z
DCREATED:20180808T132210Z
UID:ATEvent-81430f67d1a64b17b5b805677f58d153
SEQUENCE:0
LAST-MODIFIED:20181031T091925Z
SUMMARY:ESP/CMP-NUM I
LOCATION:Lecture Room B
PRIORITY:3
TRANSP:0
END:VEVENT
END:VCALENDAR
