BEGIN:VCALENDAR
PRODID:-//AT Content Types//AT Event//EN
VERSION:1.0
BEGIN:VEVENT
DTSTART:20141024T070000Z
DTEND:20141024T083000Z
DCREATED:20140826T143937Z
UID:ATEvent-a4e173cca8bc4589b1a5ed1912116c0a
SEQUENCE:0
LAST-MODIFIED:20140826T144023Z
SUMMARY:ESP/CMP-NUM I
LOCATION:Lecture Room B
PRIORITY:3
TRANSP:0
END:VEVENT
END:VCALENDAR
