BEGIN:VCALENDAR
PRODID:-//AT Content Types//AT Event//EN
VERSION:1.0
BEGIN:VEVENT
DTSTART:20161125T080000Z
DTEND:20161125T093000Z
DCREATED:20160823T101348Z
UID:ATEvent-22db809fef264f968093993d44534b11
SEQUENCE:0
LAST-MODIFIED:20160824T140021Z
SUMMARY:ESP/CMP/MSc-NUM I
LOCATION:Lecture Room B
PRIORITY:3
TRANSP:0
END:VEVENT
END:VCALENDAR
