BEGIN:VCALENDAR
PRODID:-//AT Content Types//AT Event//EN
VERSION:1.0
BEGIN:VEVENT
DTSTART:20130412T090000Z
DTEND:20130412T103000Z
DCREATED:20130405T131223Z
UID:ATEvent-b64a00707ab2c733299aa4a371391c0c
SEQUENCE:0
LAST-MODIFIED:20130405T131259Z
SUMMARY:ESP-BC
LOCATION:Lecture Room B
PRIORITY:3
TRANSP:0
END:VEVENT
END:VCALENDAR
