BEGIN:VCALENDAR
PRODID:-//AT Content Types//AT Event//EN
VERSION:2.0
METHOD:PUBLISH
BEGIN:VEVENT
DTSTAMP:20260422T223140Z
CREATED:20190305T093204Z
UID:ATEvent-66840cd9cd254cbebce3c6147cb8e89c
LAST-MODIFIED:20190305T093229Z
SUMMARY:ESP-AD
DTSTART:20190326T100000Z
DTEND:20190326T113000Z
LOCATION:Lecture Room B
CONTACT:F. Kucharski
URL:https://diploma-clear.ictp.it/courses/weekly-schedule/lecture-room-b/esp-ad-7
CLASS:PUBLIC
END:VEVENT
END:VCALENDAR
