BEGIN:VCALENDAR
PRODID:-//AT Content Types//AT Event//EN
VERSION:1.0
BEGIN:VEVENT
DTSTART:20210806T090000Z
DTEND:20210806T103000Z
DCREATED:20210615T125350Z
UID:ATEvent-59205a27bc5b407080eab37e8f0954f8
SEQUENCE:0
LAST-MODIFIED:20210615T125435Z
SUMMARY:Defenses
LOCATION:Lecture Room B
PRIORITY:3
TRANSP:0
END:VEVENT
END:VCALENDAR
