BEGIN:VCALENDAR
PRODID:-//AT Content Types//AT Event//EN
VERSION:2.0
METHOD:PUBLISH
BEGIN:VEVENT
DTSTAMP:20260420T185545Z
CREATED:20081009T080924Z
UID:ATEvent-f37c475e469cd5f248a866c72f2f90f5
LAST-MODIFIED:20081009T100926Z
SUMMARY:All Saints' Day
DTSTART:20081031T163000Z
DTEND:20081031T180000Z
LOCATION:Lecture Room B
URL:https://diploma-clear.ictp.it/courses/weekly-schedule/lecture-room-b/copy2_of_ictp
CLASS:PUBLIC
END:VEVENT
END:VCALENDAR
