BEGIN:VCALENDAR
PRODID:-//AT Content Types//AT Event//EN
VERSION:2.0
METHOD:PUBLISH
BEGIN:VEVENT
DTSTAMP:20260423T045541Z
CREATED:20210107T094011Z
UID:ATEvent-0db21697bc784de292a9e74fbd1ac7a5
LAST-MODIFIED:20210107T094048Z
SUMMARY:CMP-SM
DTSTART:20210108T130000Z
DTEND:20210108T143000Z
LOCATION:Lecture Room B
CONTACT:A. Silva
URL:https://diploma-clear.ictp.it/courses/weekly-schedule/lecture-room-b/cmp-sm
CLASS:PUBLIC
END:VEVENT
END:VCALENDAR
