BEGIN:VCALENDAR
PRODID:-//AT Content Types//AT Event//EN
VERSION:1.0
BEGIN:VEVENT
DTSTART:20211001T140000Z
DTEND:20211001T153000Z
DCREATED:20210908T091510Z
UID:ATEvent-81b6e05fe62d4ed3a148efc4dba5584b
SEQUENCE:0
LAST-MODIFIED:20210928T105624Z
SUMMARY:CMP-SM
LOCATION:Lecture Room B
PRIORITY:3
TRANSP:0
END:VEVENT
END:VCALENDAR
