BEGIN:VCALENDAR
PRODID:-//AT Content Types//AT Event//EN
VERSION:1.0
BEGIN:VEVENT
DTSTART:20180118T130000Z
DTEND:20180118T143000Z
DCREATED:20171123T101036Z
UID:ATEvent-eaacfe64ea434764afdc22950f5ff766
SEQUENCE:0
LAST-MODIFIED:20171123T101110Z
SUMMARY:CMP-NUM II
LOCATION:Lecture Room B
PRIORITY:3
TRANSP:0
END:VEVENT
END:VCALENDAR
