BEGIN:VCALENDAR
PRODID:-//AT Content Types//AT Event//EN
VERSION:2.0
METHOD:PUBLISH
BEGIN:VEVENT
DTSTAMP:20260421T015944Z
CREATED:20140829T091901Z
UID:ATEvent-0c0249bc3ba34e3ab3db069bc337ef66
LAST-MODIFIED:20140829T092108Z
SUMMARY:CMP-NUM II
DTSTART:20141212T080000Z
DTEND:20141212T093000Z
LOCATION:Lecture Room B
CONTACT:A. Hassanali
URL:https://diploma-clear.ictp.it/courses/weekly-schedule/lecture-room-b/cmp-num-ii-58
CLASS:PUBLIC
END:VEVENT
END:VCALENDAR
