BEGIN:VCALENDAR
PRODID:-//AT Content Types//AT Event//EN
VERSION:2.0
METHOD:PUBLISH
BEGIN:VEVENT
DTSTAMP:20260419T225237Z
CREATED:20100921T130935Z
UID:ATEvent-d23489c8f922bce76b11adc52b55db7f
LAST-MODIFIED:20100921T131029Z
SUMMARY:CMP+MTH use of laptops
DTSTART:20101102T130000Z
DTEND:20101102T143000Z
LOCATION:Lecture Room B
URL:https://diploma-clear.ictp.it/courses/weekly-schedule/lecture-room-b/cmp-mth-use-of-laptops
CLASS:PUBLIC
END:VEVENT
END:VCALENDAR
