BEGIN:VCALENDAR
PRODID:-//AT Content Types//AT Event//EN
VERSION:2.0
METHOD:PUBLISH
BEGIN:VEVENT
DTSTAMP:20260422T081227Z
CREATED:20090909T085303Z
UID:ATEvent-24200e84c01b896843f5cf46c944e692
LAST-MODIFIED:20091020T084848Z
SUMMARY:CMP/ESP-NUM
DTSTART:20091016T140000Z
DTEND:20091016T153000Z
LOCATION:Lecture Room B
CONTACT:Somesh Bhattacharya
URL:https://diploma-clear.ictp.it/courses/weekly-schedule/lecture-room-b/cmp-esp-num-26
CLASS:PUBLIC
END:VEVENT
END:VCALENDAR
