BEGIN:VCALENDAR
PRODID:-//AT Content Types//AT Event//EN
VERSION:2.0
METHOD:PUBLISH
BEGIN:VEVENT
DTSTAMP:20260422T081136Z
CREATED:20210730T092906Z
UID:ATEvent-34d1c784dd9c41df996c2fa2702dbf32
LAST-MODIFIED:20210730T092937Z
SUMMARY:CMP-EPS
DTSTART:20211118T080000Z
DTEND:20211118T093000Z
LOCATION:Lecture Room B
CONTACT:N. Binggeli
URL:https://diploma-clear.ictp.it/courses/weekly-schedule/lecture-room-b/cmp-eps-6
CLASS:PUBLIC
END:VEVENT
END:VCALENDAR
