BEGIN:VCALENDAR
PRODID:-//AT Content Types//AT Event//EN
VERSION:1.0
BEGIN:VEVENT
DTSTART:20211203T150000Z
DTEND:20211203T163000Z
DCREATED:20211129T111112Z
UID:ATEvent-176a57c467c8444cb58ff4e6dbf8f8a3
SEQUENCE:0
LAST-MODIFIED:20211129T111137Z
SUMMARY:CMP-AQM tut.
LOCATION:Lecture Room B
PRIORITY:3
TRANSP:0
END:VEVENT
END:VCALENDAR
