BEGIN:VCALENDAR
PRODID:-//AT Content Types//AT Event//EN
VERSION:1.0
BEGIN:VEVENT
DTSTART:20211214T130000Z
DTEND:20211214T143000Z
DCREATED:20211213T111425Z
UID:ATEvent-5b328a8077a0469f9f4f920ee154830c
SEQUENCE:0
LAST-MODIFIED:20211213T111449Z
SUMMARY:CMP-AQM tut.
LOCATION:Lecture Room B
PRIORITY:3
TRANSP:0
END:VEVENT
END:VCALENDAR
