BEGIN:VCALENDAR
PRODID:-//AT Content Types//AT Event//EN
VERSION:1.0
BEGIN:VEVENT
DTSTART:20221214T130000Z
DTEND:20221214T143000Z
DCREATED:20220719T081208Z
UID:ATEvent-9e382d68ccdc463f9fd99b077a96722a
SEQUENCE:0
LAST-MODIFIED:20221017T142354Z
SUMMARY:CMP-AQM
LOCATION:Lecture Room B
PRIORITY:3
TRANSP:0
END:VEVENT
END:VCALENDAR
