BEGIN:VCALENDAR
PRODID:-//AT Content Types//AT Event//EN
VERSION:2.0
METHOD:PUBLISH
BEGIN:VEVENT
DTSTAMP:20260422T170210Z
CREATED:20201210T093506Z
UID:ATEvent-e402b37088524d648d35f595c96c3fd3
LAST-MODIFIED:20201210T093540Z
SUMMARY:Abdus Salam Distinguished Lectures
DTSTART:20210129T150000Z
DTEND:20210129T163000Z
LOCATION:Lecture Room B
URL:https://diploma-clear.ictp.it/courses/weekly-schedule/lecture-room-b/abdus-salam-distinguished-lectures-2
CLASS:PUBLIC
END:VEVENT
END:VCALENDAR
