BEGIN:VCALENDAR
PRODID:-//ICTPDiploma//ATRoom//EN
VERSION:1.0
BEGIN:VEVENT
DTSTART:20211221T080000Z
DTEND:20211221T113000Z
DCREATED:20211215T134040Z
UID:ATEvent-c0372059162e43d5b5b6b605acb02ae3
SEQUENCE:0
LAST-MODIFIED:20211215T134110Z
SUMMARY:LB-LAB ESP-TPA
LOCATION:LB Lab
PRIORITY:3
TRANSP:0
END:VEVENT
BEGIN:VEVENT
DTSTART:20211221T080000Z
DTEND:20211221T113000Z
DCREATED:20211215T134040Z
UID:ATEvent-c0372059162e43d5b5b6b605acb02ae3
SEQUENCE:0
LAST-MODIFIED:20211215T134110Z
SUMMARY:LB-LAB ESP-TPA
LOCATION:LB Lab
PRIORITY:3
TRANSP:0
END:VEVENT
END:VCALENDAR
