BEGIN:VCALENDAR
PRODID:-//ICTPDiploma//ATRoom//EN
VERSION:1.0
BEGIN:VEVENT
DTSTART:20220322T080000Z
DTEND:20220322T093000Z
DCREATED:20220222T145751Z
UID:ATEvent-c8d8ab6365db4189b82511cdeb5cb456
SEQUENCE:0
LAST-MODIFIED:20220222T145751Z
SUMMARY:ESP-NUM II
LOCATION:LB Lab
PRIORITY:3
TRANSP:0
END:VEVENT
BEGIN:VEVENT
DTSTART:20220324T080000Z
DTEND:20220324T093000Z
DCREATED:20220222T145751Z
UID:ATEvent-599a6d1670bc4202ae3a898ff124a9e6
SEQUENCE:0
LAST-MODIFIED:20220222T145751Z
SUMMARY:ESP-NUM II
LOCATION:LB Lab
PRIORITY:3
TRANSP:0
END:VEVENT
BEGIN:VEVENT
DTSTART:20220322T130000Z
DTEND:20220322T143000Z
DCREATED:20220114T143342Z
UID:ATEvent-7def6e591e4d42cebf80c198b7fa03e7
SEQUENCE:0
LAST-MODIFIED:20220308T083617Z
SUMMARY:ESP-ESM
LOCATION:LB Lab
PRIORITY:3
TRANSP:0
END:VEVENT
END:VCALENDAR
