BEGIN:VCALENDAR
PRODID:-//AT Content Types//AT Event//EN
VERSION:1.0
BEGIN:VEVENT
DTSTART:20230126T150000Z
DTEND:20230126T163000Z
DCREATED:20221110T155033Z
UID:ATEvent-0496a0d2b5ff47d9a08d46e75c433e4c
SEQUENCE:0
LAST-MODIFIED:20221110T155033Z
SUMMARY:ESP/CMP-SP
LOCATION:LB Lab
PRIORITY:3
TRANSP:0
END:VEVENT
END:VCALENDAR
