BEGIN:VCALENDAR
PRODID:-//AT Content Types//AT Event//EN
VERSION:1.0
BEGIN:VEVENT
DTSTART:20220915T090000Z
DTEND:20220915T103000Z
DCREATED:20220801T092748Z
UID:ATEvent-dd1bc87f8d2b45cbbc9580539fb8e2d0
SEQUENCE:0
LAST-MODIFIED:20220801T092748Z
SUMMARY:CMP-LB
LOCATION:LB Lab
PRIORITY:3
TRANSP:0
END:VEVENT
END:VCALENDAR
