BEGIN:VCALENDAR
PRODID:-//AT Content Types//AT Event//EN
VERSION:2.0
METHOD:PUBLISH
BEGIN:VEVENT
DTSTAMP:20260421T104055Z
CREATED:20220801T092748Z
UID:ATEvent-0edca80a733d43d494a5cacf37a3d6f4
LAST-MODIFIED:20220801T092748Z
SUMMARY:CMP-LB
DTSTART:20220914T090000Z
DTEND:20220914T103000Z
LOCATION:LB Lab
CONTACT:U. Morzan\, T. Chanda
URL:https://diploma-clear.ictp.it/courses/weekly-schedule/lb-lab/lecture.2022-08-01.0686433169
CLASS:PUBLIC
END:VEVENT
END:VCALENDAR
