BEGIN:VCALENDAR
PRODID:-//AT Content Types//AT Event//EN
VERSION:1.0
BEGIN:VEVENT
DTSTART:20221014T070000Z
DTEND:20221014T083000Z
DCREATED:20220725T092131Z
UID:ATEvent-2c5a64854ad64bfa98e2cf28f6122567
SEQUENCE:0
LAST-MODIFIED:20220725T092132Z
SUMMARY:ESP/CMP-NUM I
LOCATION:LB Lab
PRIORITY:3
TRANSP:0
END:VEVENT
END:VCALENDAR
