BEGIN:VCALENDAR
PRODID:-//AT Content Types//AT Event//EN
VERSION:2.0
METHOD:PUBLISH
BEGIN:VEVENT
DTSTAMP:20260422T100424Z
CREATED:20220725T092131Z
UID:ATEvent-6090a393cc8046d1bf2c926ba8348e8f
LAST-MODIFIED:20220725T092131Z
SUMMARY:ESP/CMP-NUM I
DTSTART:20221003T070000Z
DTEND:20221003T083000Z
LOCATION:LB Lab
URL:https://diploma-clear.ictp.it/courses/weekly-schedule/lb-lab/lecture.2022-07-25.8911102721
CLASS:PUBLIC
END:VEVENT
END:VCALENDAR
