BEGIN:VCALENDAR
PRODID:-//AT Content Types//AT Event//EN
VERSION:1.0
BEGIN:VEVENT
DTSTART:20220921T070000Z
DTEND:20220921T083000Z
DCREATED:20220725T092130Z
UID:ATEvent-612992d2318a47f19f1d8883cb070306
SEQUENCE:0
LAST-MODIFIED:20220725T092130Z
SUMMARY:ESP/CMP-NUM I
LOCATION:LB Lab
PRIORITY:3
TRANSP:0
END:VEVENT
END:VCALENDAR
