BEGIN:VCALENDAR
PRODID:-//AT Content Types//AT Event//EN
VERSION:2.0
METHOD:PUBLISH
BEGIN:VEVENT
DTSTAMP:20260423T020921Z
CREATED:20220725T092544Z
UID:ATEvent-29a0324cf3c04e7197af27f4fbe53dcb
LAST-MODIFIED:20220725T092544Z
SUMMARY:ESP/CMP-NUM I
DTSTART:20220916T070000Z
DTEND:20220916T083000Z
LOCATION:LB Lab
URL:https://diploma-clear.ictp.it/courses/weekly-schedule/lb-lab/lecture.2022-07-25.1443085069
CLASS:PUBLIC
END:VEVENT
END:VCALENDAR
