BEGIN:VCALENDAR
PRODID:-//AT Content Types//AT Event//EN
VERSION:2.0
METHOD:PUBLISH
BEGIN:VEVENT
DTSTAMP:20260420T200343Z
CREATED:20220725T092544Z
UID:ATEvent-c166ecfde704442fadbe5bbab12f9f18
LAST-MODIFIED:20220725T092544Z
SUMMARY:ESP/CMP-NUM I
DTSTART:20220914T070000Z
DTEND:20220914T083000Z
LOCATION:LB Lab
URL:https://diploma-clear.ictp.it/courses/weekly-schedule/lb-lab/lecture.2022-07-25.1441461393
CLASS:PUBLIC
END:VEVENT
END:VCALENDAR
