BEGIN:VCALENDAR
PRODID:-//AT Content Types//AT Event//EN
VERSION:2.0
METHOD:PUBLISH
BEGIN:VEVENT
DTSTAMP:20260421T050320Z
CREATED:20210913T143231Z
UID:ATEvent-95641d95447c496b8e8f4bf938ea7fea
LAST-MODIFIED:20210913T143231Z
SUMMARY:ESP/CMP-NUM I
DTSTART:20210913T070000Z
DTEND:20210913T083000Z
LOCATION:LB Lab
CONTACT:E. Coppola\, A. Rodriguez\, F. di Sante\, S. Rostami
URL:https://diploma-clear.ictp.it/courses/weekly-schedule/lb-lab/lecture.2021-09-13.5517214526
CLASS:PUBLIC
END:VEVENT
END:VCALENDAR
